BEGIN:VCALENDAR
VERSION:2.0
PRODID:-//Literacy to Legacy Mentors® - ECPv6.10.1.1//NONSGML v1.0//EN
CALSCALE:GREGORIAN
METHOD:PUBLISH
X-WR-CALNAME:Literacy to Legacy Mentors®
X-ORIGINAL-URL:https://literacytolegacymentors.net
X-WR-CALDESC:Events for Literacy to Legacy Mentors®
REFRESH-INTERVAL;VALUE=DURATION:PT1H
X-Robots-Tag:noindex
X-PUBLISHED-TTL:PT1H
BEGIN:VTIMEZONE
TZID:America/New_York
BEGIN:DAYLIGHT
TZOFFSETFROM:-0500
TZOFFSETTO:-0400
TZNAME:EDT
DTSTART:20220313T070000
END:DAYLIGHT
BEGIN:STANDARD
TZOFFSETFROM:-0400
TZOFFSETTO:-0500
TZNAME:EST
DTSTART:20221106T060000
END:STANDARD
END:VTIMEZONE
BEGIN:VEVENT
DTSTART;TZID=America/New_York:20220316T173000
DTEND;TZID=America/New_York:20220316T180000
DTSTAMP:20260423T053847
CREATED:20220114T012701Z
LAST-MODIFIED:20220314T195013Z
UID:1640-1647451800-1647453600@literacytolegacymentors.net
SUMMARY:How to Become a More Informed and Confident Investor
DESCRIPTION:  \nThe pandemic has fueled a generation of new investors that are pumping historic amounts of money into the stock market. Fast forward two years\, with an historic eight percent inflation rate\, interest rate hikes on the horizon\, a war in Ukraine\, and unprecedented volatility\, investing has become increasingly more challenging. In this back by popular demand event\, you will learn about the professional-level tools and strategies you will need to become a more informed and confident investor\, and how to more effectively navigate the capital markets and begin to invest more effectively.  \n  \n\n\n\n\n\n\n\n\n\n 
URL:https://literacytolegacymentors.net/event/how-to-become-a-more-informed-investor/
LOCATION:Zoom
CATEGORIES:upcoming
ATTACH;FMTTYPE=image/jpeg:https://literacytolegacymentors.net/wp-content/uploads/2021/04/APPROVED_DeborahBurns_LTLMFounder_Headshot_2021-e1625168445285.jpg
ORGANIZER;CN="Deborah Pratt Johnson Burns%2C Financial Mentor%2C Educator%2C and Founder":MAILTO:deborah@literacytolegacymentors.net
END:VEVENT
END:VCALENDAR